BEGIN:VCALENDAR
VERSION:2.0
PRODID:-//Lakin Prep Academy - ECPv6.15.17.1//NONSGML v1.0//EN
CALSCALE:GREGORIAN
METHOD:PUBLISH
X-ORIGINAL-URL:https://lpes.littletonaz.org
X-WR-CALDESC:Events for Lakin Prep Academy
REFRESH-INTERVAL;VALUE=DURATION:PT1H
X-Robots-Tag:noindex
X-PUBLISHED-TTL:PT1H
BEGIN:VTIMEZONE
TZID:America/Phoenix
BEGIN:STANDARD
TZOFFSETFROM:-0700
TZOFFSETTO:-0700
TZNAME:MST
DTSTART:20230101T000000
END:STANDARD
END:VTIMEZONE
BEGIN:VEVENT
DTSTART;VALUE=DATE:20241216
DTEND;VALUE=DATE:20241221
DTSTAMP:20260422T124109
CREATED:20241203T162751Z
LAST-MODIFIED:20241203T162751Z
UID:1041-1734307200-1734739199@lpes.littletonaz.org
SUMMARY:STUCO Spirit Week
DESCRIPTION:
URL:https://lpes.littletonaz.org/calendar-event/stuco-spirit-week
END:VEVENT
BEGIN:VEVENT
DTSTART;VALUE=DATE:20241217
DTEND;VALUE=DATE:20241218
DTSTAMP:20260422T124109
CREATED:20241203T162845Z
LAST-MODIFIED:20241203T162845Z
UID:1045-1734393600-1734479999@lpes.littletonaz.org
SUMMARY:Ugly Holiday Sweater Day
DESCRIPTION:
URL:https://lpes.littletonaz.org/calendar-event/ugly-holiday-sweater-day
END:VEVENT
BEGIN:VEVENT
DTSTART;VALUE=DATE:20241217
DTEND;VALUE=DATE:20241218
DTSTAMP:20260422T124109
CREATED:20241203T163017Z
LAST-MODIFIED:20241203T163017Z
UID:1053-1734393600-1734479999@lpes.littletonaz.org
SUMMARY:Kindergarten Polar Express
DESCRIPTION:
URL:https://lpes.littletonaz.org/calendar-event/kindergarten-polar-express
END:VEVENT
END:VCALENDAR