BEGIN:VCALENDAR
VERSION:2.0
PRODID:-//Lakin Prep Academy - ECPv6.15.17.1//NONSGML v1.0//EN
CALSCALE:GREGORIAN
METHOD:PUBLISH
X-WR-CALNAME:Lakin Prep Academy
X-ORIGINAL-URL:https://lpes.littletonaz.org
X-WR-CALDESC:Events for Lakin Prep Academy
REFRESH-INTERVAL;VALUE=DURATION:PT1H
X-Robots-Tag:noindex
X-PUBLISHED-TTL:PT1H
BEGIN:VTIMEZONE
TZID:America/Phoenix
BEGIN:STANDARD
TZOFFSETFROM:-0700
TZOFFSETTO:-0700
TZNAME:MST
DTSTART:20240101T000000
END:STANDARD
END:VTIMEZONE
BEGIN:VEVENT
DTSTART;VALUE=DATE:20250226
DTEND;VALUE=DATE:20250308
DTSTAMP:20260420T010415
CREATED:20250204T201343Z
LAST-MODIFIED:20250204T201343Z
UID:1094-1740528000-1741391999@lpes.littletonaz.org
SUMMARY:Spring Book Fair
DESCRIPTION:
URL:https://lpes.littletonaz.org/calendar-event/spring-book-fair
LOCATION:Media Center
END:VEVENT
BEGIN:VEVENT
DTSTART;VALUE=DATE:20250303
DTEND;VALUE=DATE:20250308
DTSTAMP:20260420T010415
CREATED:20250225T225133Z
LAST-MODIFIED:20250225T225133Z
UID:1106-1740960000-1741391999@lpes.littletonaz.org
SUMMARY:Read Across America Spirit Week
DESCRIPTION:Monday – Dress like your Favorite Book Character\nTuesday – Crazy Hat\nWednesday – Crazy Socks\nThursday – Red or Blue day\nFriday- Pajamas Day
URL:https://lpes.littletonaz.org/calendar-event/read-across-america-spirit-week
END:VEVENT
BEGIN:VEVENT
DTSTART;VALUE=DATE:20250305
DTEND;VALUE=DATE:20250308
DTSTAMP:20260420T010415
CREATED:20250321T200359Z
LAST-MODIFIED:20250321T200359Z
UID:1148-1741132800-1741391999@lpes.littletonaz.org
SUMMARY:Parent Conferences - Early Release
DESCRIPTION:
URL:https://lpes.littletonaz.org/calendar-event/parent-conferences-early-release-4
END:VEVENT
END:VCALENDAR