BEGIN:VCALENDAR
VERSION:2.0
PRODID:-//Lakin Prep Academy - ECPv6.15.17.1//NONSGML v1.0//EN
CALSCALE:GREGORIAN
METHOD:PUBLISH
X-ORIGINAL-URL:https://lpes.littletonaz.org
X-WR-CALDESC:Events for Lakin Prep Academy
REFRESH-INTERVAL;VALUE=DURATION:PT1H
X-Robots-Tag:noindex
X-PUBLISHED-TTL:PT1H
BEGIN:VTIMEZONE
TZID:America/Phoenix
BEGIN:STANDARD
TZOFFSETFROM:-0700
TZOFFSETTO:-0700
TZNAME:MST
DTSTART:20240101T000000
END:STANDARD
END:VTIMEZONE
BEGIN:VEVENT
DTSTART;VALUE=DATE:20250317
DTEND;VALUE=DATE:20250412
DTSTAMP:20260421T130520
CREATED:20250405T203507Z
LAST-MODIFIED:20250405T203507Z
UID:1193-1742169600-1744415999@lpes.littletonaz.org
SUMMARY:AzSCI Grades 5\, 8
DESCRIPTION:
URL:https://lpes.littletonaz.org/calendar-event/azsci-grades-5-8
END:VEVENT
BEGIN:VEVENT
DTSTART;VALUE=DATE:20250326
DTEND;VALUE=DATE:20250327
DTSTAMP:20260421T130520
CREATED:20250225T225754Z
LAST-MODIFIED:20250225T225754Z
UID:1116-1742947200-1743033599@lpes.littletonaz.org
SUMMARY:PTA Dollar Dress Down Day
DESCRIPTION:
URL:https://lpes.littletonaz.org/calendar-event/pta-dollar-dress-down-day-4
END:VEVENT
BEGIN:VEVENT
DTSTART;VALUE=DATE:20250326
DTEND;VALUE=DATE:20250327
DTSTAMP:20260421T130520
CREATED:20250321T200611Z
LAST-MODIFIED:20250321T200611Z
UID:1155-1742947200-1743033599@lpes.littletonaz.org
SUMMARY:Early Release
DESCRIPTION:
URL:https://lpes.littletonaz.org/calendar-event/early-release-3
END:VEVENT
END:VCALENDAR