BEGIN:VCALENDAR
VERSION:2.0
PRODID:-//Lakin Prep Academy - ECPv6.15.17.1//NONSGML v1.0//EN
CALSCALE:GREGORIAN
METHOD:PUBLISH
X-WR-CALNAME:Lakin Prep Academy
X-ORIGINAL-URL:https://lpes.littletonaz.org
X-WR-CALDESC:Events for Lakin Prep Academy
REFRESH-INTERVAL;VALUE=DURATION:PT1H
X-Robots-Tag:noindex
X-PUBLISHED-TTL:PT1H
BEGIN:VTIMEZONE
TZID:America/Phoenix
BEGIN:STANDARD
TZOFFSETFROM:-0700
TZOFFSETTO:-0700
TZNAME:MST
DTSTART:20240101T000000
END:STANDARD
END:VTIMEZONE
BEGIN:VEVENT
DTSTART;VALUE=DATE:20250521
DTEND;VALUE=DATE:20250522
DTSTAMP:20260424T201921
CREATED:20250321T201016Z
LAST-MODIFIED:20250321T201016Z
UID:1168-1747785600-1747871999@lpes.littletonaz.org
SUMMARY:Early Release
DESCRIPTION:
URL:https://lpes.littletonaz.org/calendar-event/early-release-11
END:VEVENT
BEGIN:VEVENT
DTSTART;VALUE=DATE:20250521
DTEND;VALUE=DATE:20250522
DTSTAMP:20260424T201921
CREATED:20250502T005721Z
LAST-MODIFIED:20250502T005721Z
UID:1372-1747785600-1747871999@lpes.littletonaz.org
SUMMARY:PTA $1 Dress Down Day
DESCRIPTION:
URL:https://lpes.littletonaz.org/calendar-event/pta-1-dress-down-day-4
END:VEVENT
BEGIN:VEVENT
DTSTART;TZID=America/Phoenix:20250521T080000
DTEND;TZID=America/Phoenix:20250521T091500
DTSTAMP:20260424T201921
CREATED:20250502T005951Z
LAST-MODIFIED:20250502T005951Z
UID:1375-1747814400-1747818900@lpes.littletonaz.org
SUMMARY:Kindergarten Celebration
DESCRIPTION:
URL:https://lpes.littletonaz.org/calendar-event/kindergarten-celebration-2
LOCATION:Multipurpose Room
END:VEVENT
END:VCALENDAR