BEGIN:VCALENDAR
VERSION:2.0
PRODID:-//Lakin Prep Academy - ECPv6.15.17.1//NONSGML v1.0//EN
CALSCALE:GREGORIAN
METHOD:PUBLISH
X-ORIGINAL-URL:https://lpes.littletonaz.org
X-WR-CALDESC:Events for Lakin Prep Academy
REFRESH-INTERVAL;VALUE=DURATION:PT1H
X-Robots-Tag:noindex
X-PUBLISHED-TTL:PT1H
BEGIN:VTIMEZONE
TZID:America/Phoenix
BEGIN:STANDARD
TZOFFSETFROM:-0700
TZOFFSETTO:-0700
TZNAME:MST
DTSTART:20230101T000000
END:STANDARD
END:VTIMEZONE
BEGIN:VEVENT
DTSTART;VALUE=DATE:20240926
DTEND;VALUE=DATE:20241005
DTSTAMP:20260424T013337
CREATED:20240827T132548Z
LAST-MODIFIED:20240912T023719Z
UID:958-1727308800-1728086399@lpes.littletonaz.org
SUMMARY:Fall Book Fair
DESCRIPTION:
URL:https://lpes.littletonaz.org/calendar-event/fall-book-fair
END:VEVENT
BEGIN:VEVENT
DTSTART;TZID=America/Phoenix:20241003T123000
DTEND;TZID=America/Phoenix:20241003T210000
DTSTAMP:20260424T013337
CREATED:20241003T184622Z
LAST-MODIFIED:20241003T184622Z
UID:985-1727958600-1727989200@lpes.littletonaz.org
SUMMARY:PTA Red Robin Night
DESCRIPTION:
URL:https://lpes.littletonaz.org/calendar-event/pta-red-robin-night
LOCATION:10240 W Mcdowell Rd\, Avondale AZ.
END:VEVENT
BEGIN:VEVENT
DTSTART;TZID=America/Phoenix:20241004T074500
DTEND;TZID=America/Phoenix:20241004T074500
DTSTAMP:20260424T013337
CREATED:20241003T184724Z
LAST-MODIFIED:20241003T184724Z
UID:989-1728027900-1728027900@lpes.littletonaz.org
SUMMARY:First Friday Assembly (Invite Only)
DESCRIPTION:
URL:https://lpes.littletonaz.org/calendar-event/first-friday-assembly-invite-only
LOCATION:Multi-Purpose Room
END:VEVENT
BEGIN:VEVENT
DTSTART;TZID=America/Phoenix:20241015T173000
DTEND;TZID=America/Phoenix:20241015T173000
DTSTAMP:20260424T013337
CREATED:20241003T184813Z
LAST-MODIFIED:20241003T184813Z
UID:991-1729013400-1729013400@lpes.littletonaz.org
SUMMARY:PTA Virtual Members Meeting (Members only)
DESCRIPTION:
URL:https://lpes.littletonaz.org/calendar-event/pta-virtual-members-meeting-members-only
LOCATION:Media Center
END:VEVENT
BEGIN:VEVENT
DTSTART;TZID=America/Phoenix:20241018T074500
DTEND;TZID=America/Phoenix:20241018T102500
DTSTAMP:20260424T013337
CREATED:20241003T185025Z
LAST-MODIFIED:20241003T185025Z
UID:995-1729237500-1729247100@lpes.littletonaz.org
SUMMARY:Honor Roll Assembly(Invitation Only)
DESCRIPTION:KG – 7:45–8:30 a.m.\n1st & 2nd – 8:30–9:15 a.m.\n3rd & 4th – 9:15–10:00 a.m.\n5th & 6th -10:00–10:25 a.m.
URL:https://lpes.littletonaz.org/calendar-event/honor-roll-assemblyinvitation-only
END:VEVENT
BEGIN:VEVENT
DTSTART;TZID=America/Phoenix:20241024T163000
DTEND;TZID=America/Phoenix:20241024T180000
DTSTAMP:20260424T013337
CREATED:20241003T184842Z
LAST-MODIFIED:20241003T184842Z
UID:993-1729787400-1729792800@lpes.littletonaz.org
SUMMARY:PTA Truck or Treat
DESCRIPTION:
URL:https://lpes.littletonaz.org/calendar-event/pta-truck-or-treat
END:VEVENT
BEGIN:VEVENT
DTSTART;VALUE=DATE:20241029
DTEND;VALUE=DATE:20241030
DTSTAMP:20260424T013337
CREATED:20241003T185058Z
LAST-MODIFIED:20241003T185058Z
UID:997-1730160000-1730246399@lpes.littletonaz.org
SUMMARY:Field Trip to ASU
DESCRIPTION:
URL:https://lpes.littletonaz.org/calendar-event/field-trip-to-asu
END:VEVENT
END:VCALENDAR