BEGIN:VCALENDAR
VERSION:2.0
PRODID:-//Lakin Prep Academy - ECPv6.15.17.1//NONSGML v1.0//EN
CALSCALE:GREGORIAN
METHOD:PUBLISH
X-ORIGINAL-URL:https://lpes.littletonaz.org
X-WR-CALDESC:Events for Lakin Prep Academy
REFRESH-INTERVAL;VALUE=DURATION:PT1H
X-Robots-Tag:noindex
X-PUBLISHED-TTL:PT1H
BEGIN:VTIMEZONE
TZID:America/Phoenix
BEGIN:STANDARD
TZOFFSETFROM:-0700
TZOFFSETTO:-0700
TZNAME:MST
DTSTART:20270101T000000
END:STANDARD
END:VTIMEZONE
BEGIN:VEVENT
DTSTART;VALUE=DATE:20280103
DTEND;VALUE=DATE:20280104
DTSTAMP:20260421T100244
CREATED:20260126T222234Z
LAST-MODIFIED:20260126T222234Z
UID:1725-1830470400-1830556799@lpes.littletonaz.org
SUMMARY:Staff In-Service (No School)
DESCRIPTION:
URL:https://lpes.littletonaz.org/calendar-event/staff-in-service-no-school-5
END:VEVENT
BEGIN:VEVENT
DTSTART;VALUE=DATE:20280105
DTEND;VALUE=DATE:20280106
DTSTAMP:20260421T100244
CREATED:20260126T222431Z
LAST-MODIFIED:20260126T222431Z
UID:1726-1830643200-1830729599@lpes.littletonaz.org
SUMMARY:Early Release
DESCRIPTION:
URL:https://lpes.littletonaz.org/calendar-event/early-release-34
END:VEVENT
BEGIN:VEVENT
DTSTART;VALUE=DATE:20280112
DTEND;VALUE=DATE:20280113
DTSTAMP:20260421T100244
CREATED:20260126T222431Z
LAST-MODIFIED:20260126T222431Z
UID:1727-1831248000-1831334399@lpes.littletonaz.org
SUMMARY:Early Release
DESCRIPTION:
URL:https://lpes.littletonaz.org/calendar-event/early-release-35
END:VEVENT
BEGIN:VEVENT
DTSTART;VALUE=DATE:20280117
DTEND;VALUE=DATE:20280118
DTSTAMP:20260421T100244
CREATED:20260126T222432Z
LAST-MODIFIED:20260126T222432Z
UID:1728-1831680000-1831766399@lpes.littletonaz.org
SUMMARY:Martin Luther King\, Jr. Day
DESCRIPTION:
URL:https://lpes.littletonaz.org/calendar-event/martin-luther-king-jr-day
END:VEVENT
BEGIN:VEVENT
DTSTART;VALUE=DATE:20280119
DTEND;VALUE=DATE:20280120
DTSTAMP:20260421T100244
CREATED:20260126T222433Z
LAST-MODIFIED:20260126T222433Z
UID:1729-1831852800-1831939199@lpes.littletonaz.org
SUMMARY:Early Release
DESCRIPTION:
URL:https://lpes.littletonaz.org/calendar-event/early-release-36
END:VEVENT
BEGIN:VEVENT
DTSTART;VALUE=DATE:20280126
DTEND;VALUE=DATE:20280127
DTSTAMP:20260421T100244
CREATED:20260126T222433Z
LAST-MODIFIED:20260126T222433Z
UID:1730-1832457600-1832543999@lpes.littletonaz.org
SUMMARY:Early Release
DESCRIPTION:
URL:https://lpes.littletonaz.org/calendar-event/early-release-37
END:VEVENT
END:VCALENDAR