BEGIN:VCALENDAR
VERSION:2.0
PRODID:-//Lakin Prep Academy - ECPv6.15.17.1//NONSGML v1.0//EN
CALSCALE:GREGORIAN
METHOD:PUBLISH
X-ORIGINAL-URL:https://lpes.littletonaz.org
X-WR-CALDESC:Events for Lakin Prep Academy
REFRESH-INTERVAL;VALUE=DURATION:PT1H
X-Robots-Tag:noindex
X-PUBLISHED-TTL:PT1H
BEGIN:VTIMEZONE
TZID:America/Phoenix
BEGIN:STANDARD
TZOFFSETFROM:-0700
TZOFFSETTO:-0700
TZNAME:MST
DTSTART:20220101T000000
END:STANDARD
END:VTIMEZONE
BEGIN:VEVENT
DTSTART;TZID=America/Phoenix:20250521T080000
DTEND;TZID=America/Phoenix:20250521T091500
DTSTAMP:20260421T193309
CREATED:20250502T005951Z
LAST-MODIFIED:20250502T005951Z
UID:1375-1747814400-1747818900@lpes.littletonaz.org
SUMMARY:Kindergarten Celebration
DESCRIPTION:
URL:https://lpes.littletonaz.org/calendar-event/kindergarten-celebration-2
LOCATION:Multipurpose Room
END:VEVENT
BEGIN:VEVENT
DTSTART;TZID=America/Phoenix:20250519T130000
DTEND;TZID=America/Phoenix:20250519T141500
DTSTAMP:20260421T193309
CREATED:20250502T005537Z
LAST-MODIFIED:20250502T005537Z
UID:1368-1747659600-1747664100@lpes.littletonaz.org
SUMMARY:LPA Talent Show
DESCRIPTION:
URL:https://lpes.littletonaz.org/calendar-event/lpa-talent-show
LOCATION:Multipurpose Room
END:VEVENT
BEGIN:VEVENT
DTSTART;TZID=America/Phoenix:20250516T074500
DTEND;TZID=America/Phoenix:20250516T074500
DTSTAMP:20260421T193309
CREATED:20250502T005325Z
LAST-MODIFIED:20250502T005325Z
UID:1364-1747381500-1747381500@lpes.littletonaz.org
SUMMARY:Final Friday Assembly
DESCRIPTION:
URL:https://lpes.littletonaz.org/calendar-event/final-friday-assembly
LOCATION:Multipurpose Room
END:VEVENT
BEGIN:VEVENT
DTSTART;TZID=America/Phoenix:20250515T163000
DTEND;TZID=America/Phoenix:20250515T180000
DTSTAMP:20260421T193309
CREATED:20250502T005204Z
LAST-MODIFIED:20250502T005204Z
UID:1362-1747326600-1747332000@lpes.littletonaz.org
SUMMARY:PTA School Dance
DESCRIPTION:
URL:https://lpes.littletonaz.org/calendar-event/pta-school-dance
LOCATION:Multipurpose Room
END:VEVENT
BEGIN:VEVENT
DTSTART;TZID=America/Phoenix:20250502T163000
DTEND;TZID=America/Phoenix:20250502T180000
DTSTAMP:20260421T193309
CREATED:20250502T004812Z
LAST-MODIFIED:20250502T004812Z
UID:1354-1746203400-1746208800@lpes.littletonaz.org
SUMMARY:World Fair
DESCRIPTION:
URL:https://lpes.littletonaz.org/calendar-event/world-fair
LOCATION:Multipurpose Room
END:VEVENT
BEGIN:VEVENT
DTSTART;TZID=America/Phoenix:20250502T074500
DTEND;TZID=America/Phoenix:20250502T074500
DTSTAMP:20260421T193309
CREATED:20250502T004517Z
LAST-MODIFIED:20250502T004517Z
UID:1352-1746171900-1746171900@lpes.littletonaz.org
SUMMARY:First Friday Assembly (Invite Only)
DESCRIPTION:
URL:https://lpes.littletonaz.org/calendar-event/first-friday-assembly-invite-only-7
LOCATION:Multipurpose Room
END:VEVENT
BEGIN:VEVENT
DTSTART;TZID=America/Phoenix:20250404T133000
DTEND;TZID=America/Phoenix:20250404T133000
DTSTAMP:20260421T193309
CREATED:20250405T190917Z
LAST-MODIFIED:20250405T190917Z
UID:1175-1743773400-1743773400@lpes.littletonaz.org
SUMMARY:Friday Assembly (Invite Only)
DESCRIPTION:
URL:https://lpes.littletonaz.org/calendar-event/friday-assembly-invite-only
LOCATION:Multipurpose Room
END:VEVENT
BEGIN:VEVENT
DTSTART;TZID=America/Phoenix:20250307T074500
DTEND;TZID=America/Phoenix:20250307T074500
DTSTAMP:20260421T193309
CREATED:20250225T225309Z
LAST-MODIFIED:20250225T225309Z
UID:1108-1741333500-1741333500@lpes.littletonaz.org
SUMMARY:First Friday Assembly (Invite only)
DESCRIPTION:
URL:https://lpes.littletonaz.org/calendar-event/first-friday-assembly-invite-only-6
LOCATION:Multipurpose Room
END:VEVENT
BEGIN:VEVENT
DTSTART;TZID=America/Phoenix:20250214T170000
DTEND;TZID=America/Phoenix:20250214T183000
DTSTAMP:20260421T193309
CREATED:20250204T200437Z
LAST-MODIFIED:20250204T200458Z
UID:1086-1739552400-1739557800@lpes.littletonaz.org
SUMMARY:5th–6th Stuco Valentine’s Dance
DESCRIPTION:
URL:https://lpes.littletonaz.org/calendar-event/5th-6th-stuco-valentines-dance
LOCATION:Multipurpose Room
END:VEVENT
BEGIN:VEVENT
DTSTART;TZID=America/Phoenix:20250207T074500
DTEND;TZID=America/Phoenix:20250207T074500
DTSTAMP:20260421T193309
CREATED:20250204T200309Z
LAST-MODIFIED:20250204T200309Z
UID:1084-1738914300-1738914300@lpes.littletonaz.org
SUMMARY:First Friday Assembly (Invite Only)
DESCRIPTION:
URL:https://lpes.littletonaz.org/calendar-event/first-friday-assembly-invite-only-5
LOCATION:Multipurpose Room
END:VEVENT
BEGIN:VEVENT
DTSTART;TZID=America/Phoenix:20241115T163000
DTEND;TZID=America/Phoenix:20241115T180000
DTSTAMP:20260421T193309
CREATED:20241101T011001Z
LAST-MODIFIED:20241101T011001Z
UID:1007-1731688200-1731693600@lpes.littletonaz.org
SUMMARY:Career Night
DESCRIPTION:
URL:https://lpes.littletonaz.org/calendar-event/career-night
LOCATION:Multipurpose Room
END:VEVENT
BEGIN:VEVENT
DTSTART;TZID=America/Phoenix:20241101T102500
DTEND;TZID=America/Phoenix:20241101T120500
DTSTAMP:20260421T193309
CREATED:20241101T010906Z
LAST-MODIFIED:20241101T010906Z
UID:1005-1730456700-1730462700@lpes.littletonaz.org
SUMMARY:SFE Dia de los Muertos Farmer’s Market - (Students & Staff only)
DESCRIPTION:
URL:https://lpes.littletonaz.org/calendar-event/sfe-dia-de-los-muertos-farmers-market-students-staff-only
LOCATION:Multipurpose Room
END:VEVENT
BEGIN:VEVENT
DTSTART;TZID=America/Phoenix:20241101T074500
DTEND;TZID=America/Phoenix:20241101T074500
DTSTAMP:20260421T193309
CREATED:20241101T010727Z
LAST-MODIFIED:20241101T010727Z
UID:1003-1730447100-1730447100@lpes.littletonaz.org
SUMMARY:First Friday Assembly (invite only)
DESCRIPTION:
URL:https://lpes.littletonaz.org/calendar-event/first-friday-assembly-invite-only-2
LOCATION:Multipurpose Room
END:VEVENT
BEGIN:VEVENT
DTSTART;TZID=America/Phoenix:20240906T074500
DTEND;TZID=America/Phoenix:20240906T084500
DTSTAMP:20260421T193309
CREATED:20240827T131950Z
LAST-MODIFIED:20240827T131950Z
UID:932-1725608700-1725612300@lpes.littletonaz.org
SUMMARY:First Friday Assembly
DESCRIPTION:
URL:https://lpes.littletonaz.org/calendar-event/first-friday-assembly-7
LOCATION:Multipurpose Room
END:VEVENT
BEGIN:VEVENT
DTSTART;TZID=America/Phoenix:20240815T173000
DTEND;TZID=America/Phoenix:20240815T183000
DTSTAMP:20260421T193309
CREATED:20240813T212351Z
LAST-MODIFIED:20240813T212351Z
UID:895-1723743000-1723746600@lpes.littletonaz.org
SUMMARY:LPA Parent Info Meeting (p.m.)
DESCRIPTION:
URL:https://lpes.littletonaz.org/calendar-event/lpa-parent-info-meeting-p-m
LOCATION:Multipurpose Room
END:VEVENT
BEGIN:VEVENT
DTSTART;TZID=America/Phoenix:20240815T074500
DTEND;TZID=America/Phoenix:20240815T084500
DTSTAMP:20260421T193309
CREATED:20240813T212247Z
LAST-MODIFIED:20240813T212247Z
UID:893-1723707900-1723711500@lpes.littletonaz.org
SUMMARY:LPA Parent Info Meeting (a.m.)
DESCRIPTION:
URL:https://lpes.littletonaz.org/calendar-event/lpa-parent-info-meeting-a-m
LOCATION:Multipurpose Room
END:VEVENT
BEGIN:VEVENT
DTSTART;TZID=America/Phoenix:20240521T131500
DTEND;TZID=America/Phoenix:20240521T143000
DTSTAMP:20260421T193309
CREATED:20240502T021953Z
LAST-MODIFIED:20240502T021953Z
UID:860-1716297300-1716301800@lpes.littletonaz.org
SUMMARY:Kindergarten Celebration
DESCRIPTION:
URL:https://lpes.littletonaz.org/calendar-event/kindergarten-celebration
LOCATION:Multipurpose Room
END:VEVENT
BEGIN:VEVENT
DTSTART;TZID=America/Phoenix:20240517T163000
DTEND;TZID=America/Phoenix:20240517T183000
DTSTAMP:20260421T193309
CREATED:20240502T021838Z
LAST-MODIFIED:20240502T021838Z
UID:858-1715963400-1715970600@lpes.littletonaz.org
SUMMARY:PTA Family Dance
DESCRIPTION:
URL:https://lpes.littletonaz.org/calendar-event/pta-family-dance
LOCATION:Multipurpose Room
END:VEVENT
BEGIN:VEVENT
DTSTART;TZID=America/Phoenix:20240503T074500
DTEND;TZID=America/Phoenix:20240503T074500
DTSTAMP:20260421T193309
CREATED:20240502T021532Z
LAST-MODIFIED:20240502T021532Z
UID:850-1714722300-1714722300@lpes.littletonaz.org
SUMMARY:First Friday Assembly
DESCRIPTION:
URL:https://lpes.littletonaz.org/calendar-event/first-friday-assembly-5
LOCATION:Multipurpose Room
END:VEVENT
BEGIN:VEVENT
DTSTART;TZID=America/Phoenix:20240322T043000
DTEND;TZID=America/Phoenix:20240322T180000
DTSTAMP:20260421T193309
CREATED:20240305T020835Z
LAST-MODIFIED:20240305T020835Z
UID:810-1711081800-1711130400@lpes.littletonaz.org
SUMMARY:First Annual World Fair
DESCRIPTION:
URL:https://lpes.littletonaz.org/calendar-event/first-annual-world-fair
LOCATION:Multipurpose Room
END:VEVENT
BEGIN:VEVENT
DTSTART;VALUE=DATE:20240119
DTEND;VALUE=DATE:20240120
DTSTAMP:20260421T193309
CREATED:20240108T163219Z
LAST-MODIFIED:20240108T163603Z
UID:743-1705622400-1705708799@lpes.littletonaz.org
SUMMARY:Q2 Honor Roll Assembly
DESCRIPTION:Time varies by grade.
URL:https://lpes.littletonaz.org/calendar-event/q2-honor-roll-assembly
LOCATION:Multipurpose Room
END:VEVENT
BEGIN:VEVENT
DTSTART;TZID=America/Phoenix:20240111T074500
DTEND;TZID=America/Phoenix:20240111T074500
DTSTAMP:20260421T193309
CREATED:20240108T163120Z
LAST-MODIFIED:20240108T163120Z
UID:741-1704959100-1704959100@lpes.littletonaz.org
SUMMARY:First Thursday Assembly
DESCRIPTION:
URL:https://lpes.littletonaz.org/calendar-event/first-thursday-assembly
LOCATION:Multipurpose Room
END:VEVENT
BEGIN:VEVENT
DTSTART;TZID=America/Phoenix:20231214T163000
DTEND;TZID=America/Phoenix:20231214T183000
DTSTAMP:20260421T193309
CREATED:20231206T213150Z
LAST-MODIFIED:20231206T213150Z
UID:737-1702571400-1702578600@lpes.littletonaz.org
SUMMARY:PTA Family Night Gingerbread House Making
DESCRIPTION:
URL:https://lpes.littletonaz.org/calendar-event/pta-family-night-gingerbread-house-making
LOCATION:Multipurpose Room
END:VEVENT
BEGIN:VEVENT
DTSTART;TZID=America/Phoenix:20231201T074500
DTEND;TZID=America/Phoenix:20231201T074500
DTSTAMP:20260421T193309
CREATED:20231206T212929Z
LAST-MODIFIED:20231206T212929Z
UID:730-1701416700-1701416700@lpes.littletonaz.org
SUMMARY:First Friday Assembly
DESCRIPTION:
URL:https://lpes.littletonaz.org/calendar-event/first-friday-assembly-2
LOCATION:Multipurpose Room
END:VEVENT
BEGIN:VEVENT
DTSTART;TZID=America/Phoenix:20231103T074500
DTEND;TZID=America/Phoenix:20231103T083000
DTSTAMP:20260421T193309
CREATED:20231031T202709Z
LAST-MODIFIED:20231031T202709Z
UID:714-1698997500-1699000200@lpes.littletonaz.org
SUMMARY:First Friday Assembly - 7:45-8:30 in the Multipurpose Room
DESCRIPTION:
URL:https://lpes.littletonaz.org/calendar-event/first-friday-assembly-745-830-in-the-multipurpose-room
LOCATION:Multipurpose Room
END:VEVENT
BEGIN:VEVENT
DTSTART;TZID=America/Phoenix:20230908T074500
DTEND;TZID=America/Phoenix:20230908T074500
DTSTAMP:20260421T193309
CREATED:20230919T235009Z
LAST-MODIFIED:20230920T010158Z
UID:678-1694159100-1694159100@lpes.littletonaz.org
SUMMARY:First Friday Assembly
DESCRIPTION:
URL:https://lpes.littletonaz.org/calendar-event/first-friday-assembly
LOCATION:Multipurpose Room
END:VEVENT
END:VCALENDAR